BEGIN:VCALENDAR
VERSION:2.0
PRODID:-//NAB&#039;s Cool Zone - ECPv6.15.20//NONSGML v1.0//EN
CALSCALE:GREGORIAN
METHOD:PUBLISH
X-WR-CALNAME:NAB&#039;s Cool Zone
X-ORIGINAL-URL:https://nabscoolzone.com
X-WR-CALDESC:Events for NAB&#039;s Cool Zone
REFRESH-INTERVAL;VALUE=DURATION:PT1H
X-Robots-Tag:noindex
X-PUBLISHED-TTL:PT1H
BEGIN:VTIMEZONE
TZID:America/New_York
BEGIN:DAYLIGHT
TZOFFSETFROM:-0500
TZOFFSETTO:-0400
TZNAME:EDT
DTSTART:20240310T070000
END:DAYLIGHT
BEGIN:STANDARD
TZOFFSETFROM:-0400
TZOFFSETTO:-0500
TZNAME:EST
DTSTART:20241103T060000
END:STANDARD
BEGIN:DAYLIGHT
TZOFFSETFROM:-0500
TZOFFSETTO:-0400
TZNAME:EDT
DTSTART:20250309T070000
END:DAYLIGHT
BEGIN:STANDARD
TZOFFSETFROM:-0400
TZOFFSETTO:-0500
TZNAME:EST
DTSTART:20251102T060000
END:STANDARD
BEGIN:DAYLIGHT
TZOFFSETFROM:-0500
TZOFFSETTO:-0400
TZNAME:EDT
DTSTART:20260308T070000
END:DAYLIGHT
BEGIN:STANDARD
TZOFFSETFROM:-0400
TZOFFSETTO:-0500
TZNAME:EST
DTSTART:20261101T060000
END:STANDARD
END:VTIMEZONE
BEGIN:VEVENT
DTSTART;TZID=America/New_York:20250907T140000
DTEND;TZID=America/New_York:20250907T190000
DTSTAMP:20260421T170128
CREATED:20250806T000823Z
LAST-MODIFIED:20250814T202147Z
UID:2915-1757253600-1757271600@nabscoolzone.com
SUMMARY:Silver Spring End of Summer Celebration
DESCRIPTION:
URL:https://nabscoolzone.com/event/silver-spring-end-of-summer-celebration/
LOCATION:Veterans Plaza\, 1 Veterans Plaza\, Silver Spring\, MD\, 20910\, United States
END:VEVENT
END:VCALENDAR