BEGIN:VCALENDAR
VERSION:2.0
PRODID:-//NAB&#039;s Cool Zone - ECPv6.15.20//NONSGML v1.0//EN
CALSCALE:GREGORIAN
METHOD:PUBLISH
X-WR-CALNAME:NAB&#039;s Cool Zone
X-ORIGINAL-URL:https://nabscoolzone.com
X-WR-CALDESC:Events for NAB&#039;s Cool Zone
REFRESH-INTERVAL;VALUE=DURATION:PT1H
X-Robots-Tag:noindex
X-PUBLISHED-TTL:PT1H
BEGIN:VTIMEZONE
TZID:America/New_York
BEGIN:DAYLIGHT
TZOFFSETFROM:-0500
TZOFFSETTO:-0400
TZNAME:EDT
DTSTART:20240310T070000
END:DAYLIGHT
BEGIN:STANDARD
TZOFFSETFROM:-0400
TZOFFSETTO:-0500
TZNAME:EST
DTSTART:20241103T060000
END:STANDARD
BEGIN:DAYLIGHT
TZOFFSETFROM:-0500
TZOFFSETTO:-0400
TZNAME:EDT
DTSTART:20250309T070000
END:DAYLIGHT
BEGIN:STANDARD
TZOFFSETFROM:-0400
TZOFFSETTO:-0500
TZNAME:EST
DTSTART:20251102T060000
END:STANDARD
BEGIN:DAYLIGHT
TZOFFSETFROM:-0500
TZOFFSETTO:-0400
TZNAME:EDT
DTSTART:20260308T070000
END:DAYLIGHT
BEGIN:STANDARD
TZOFFSETFROM:-0400
TZOFFSETTO:-0500
TZNAME:EST
DTSTART:20261101T060000
END:STANDARD
END:VTIMEZONE
BEGIN:VEVENT
DTSTART;TZID=America/New_York:20250830T110000
DTEND;TZID=America/New_York:20250830T170000
DTSTAMP:20260421T212250
CREATED:20250718T005629Z
LAST-MODIFIED:20250814T201806Z
UID:2491-1756551600-1756573200@nabscoolzone.com
SUMMARY:Frederick End Of Summer Celebration @ Carroll Creek Park
DESCRIPTION:
URL:https://nabscoolzone.com/event/frederick-end-of-summer-celebration-carroll-creek-park/
LOCATION:Carroll Creek Park\, 50 Carroll Creek Way\, Frederick\, MD\, 21701\, United States
END:VEVENT
BEGIN:VEVENT
DTSTART;TZID=America/New_York:20250817T110000
DTEND;TZID=America/New_York:20250817T170000
DTSTAMP:20260421T212250
CREATED:20250814T195025Z
LAST-MODIFIED:20250814T200911Z
UID:3000-1755428400-1755450000@nabscoolzone.com
SUMMARY:Frederick Summer Festival
DESCRIPTION:
URL:https://nabscoolzone.com/event/frederick-summer-festival/
LOCATION:Carroll Creek Park\, 50 Carroll Creek Way\, Frederick\, MD\, 21701\, United States
END:VEVENT
BEGIN:VEVENT
DTSTART;TZID=America/New_York:20250816T140000
DTEND;TZID=America/New_York:20250816T220000
DTSTAMP:20260421T212250
CREATED:20250814T190246Z
LAST-MODIFIED:20250814T190833Z
UID:2985-1755352800-1755381600@nabscoolzone.com
SUMMARY:Wine & Slow Jams
DESCRIPTION:
URL:https://nabscoolzone.com/event/wine-slow-jams/
LOCATION:Rosecroft Raceway\, 6336 Rosecroft Drive\, Fort Washington\, MD\, 20744\, United States
END:VEVENT
END:VCALENDAR